{
 "currentVersion": 11.1,
 "serviceDescription": "G_CropStats/Crop_Stats",
 "name": "G_CropStats/Crop_Stats",
 "description": "",
 "extent": {
  "xmin": -2.00375070672E7,
  "ymin": -3.024097145838615E7,
  "xmax": 2.003734931831174E7,
  "ymax": 3.024097145838615E7,
  "spatialReference": {
   "wkid": 102100,
   "latestWkid": 3857
  }
 },
 "initialExtent": {
  "xmin": -2.00375070672E7,
  "ymin": -3.024097145838615E7,
  "xmax": 2.003734931831174E7,
  "ymax": 3.024097145838615E7,
  "spatialReference": {
   "wkid": 102100,
   "latestWkid": 3857
  }
 },
 "fullExtent": {
  "xmin": -2.00375070672E7,
  "ymin": -3.024097145838615E7,
  "xmax": 2.003734931831174E7,
  "ymax": 3.024097145838615E7,
  "spatialReference": {
   "wkid": 102100,
   "latestWkid": 3857
  }
 },
 "sortableFields": "MinPS,MaxPS,LowPS,HighPS,CenterX,CenterY,ZOrder,Shape_Length,Shape_Area",
 "bandCount": 1,
 "pixelType": "F32",
 "minValues": [
  0
 ],
 "maxValues": [
  9185.5
 ],
 "meanValues": [
  44.592966225295264
 ],
 "stdvValues": [
  263.5582598926872
 ],
 "hasMultidimensions": false,
 "pixelSizeX": 9276.587126275866,
 "pixelSizeY": 9276.371613001886,
 "datasetFormat": "AMD",
 "uncompressedSize": 112665600,
 "blockWidth": 2048,
 "blockHeight": 256,
 "compressionType": "None",
 "bandNames": [
  "Band_1"
 ],
 "allowCopy": true,
 "allowAnalysis": true,
 "itemAccess": false,
 "minPixelSize": 0,
 "maxPixelSize": 0,
 "copyrightText": "",
 "serviceDataType": "esriImageServiceDataTypeGeneric",
 "serviceSourceType": "esriImageServiceSourceTypeMosaicDataset",
 "objectIdField": "OBJECTID",
 "fields": [
  {
   "name": "OBJECTID",
   "type": "esriFieldTypeOID",
   "alias": "OBJECTID",
   "domain": null
  },
  {
   "name": "Shape",
   "type": "esriFieldTypeGeometry",
   "alias": "Shape",
   "domain": null
  },
  {
   "name": "Name",
   "type": "esriFieldTypeString",
   "alias": "Name",
   "domain": null,
   "length": 200
  },
  {
   "name": "MinPS",
   "type": "esriFieldTypeDouble",
   "alias": "MinPS",
   "domain": null
  },
  {
   "name": "MaxPS",
   "type": "esriFieldTypeDouble",
   "alias": "MaxPS",
   "domain": null
  },
  {
   "name": "LowPS",
   "type": "esriFieldTypeDouble",
   "alias": "LowPS",
   "domain": null
  },
  {
   "name": "HighPS",
   "type": "esriFieldTypeDouble",
   "alias": "HighPS",
   "domain": null
  },
  {
   "name": "Category",
   "type": "esriFieldTypeInteger",
   "alias": "Category",
   "domain": {
    "type": "codedValue",
    "name": "MosaicCatalogItemCategoryDomain",
    "description": "Catalog item categories.",
    "codedValues": [
     {
      "name": "Unknown",
      "code": 0
     },
     {
      "name": "Primary",
      "code": 1
     },
     {
      "name": "Overview",
      "code": 2
     },
     {
      "name": "Unprocessed Overview",
      "code": 3
     },
     {
      "name": "Partial Overview",
      "code": 4
     },
     {
      "name": "Inactive",
      "code": 5
     },
     {
      "name": "Uploaded",
      "code": 253
     },
     {
      "name": "Incomplete",
      "code": 254
     },
     {
      "name": "Custom",
      "code": 255
     }
    ],
    "mergePolicy": "esriMPTDefaultValue",
    "splitPolicy": "esriSPTDefaultValue"
   }
  },
  {
   "name": "Tag",
   "type": "esriFieldTypeString",
   "alias": "Tag",
   "domain": null,
   "length": 100
  },
  {
   "name": "GroupName",
   "type": "esriFieldTypeString",
   "alias": "GroupName",
   "domain": null,
   "length": 100
  },
  {
   "name": "ProductName",
   "type": "esriFieldTypeString",
   "alias": "ProductName",
   "domain": null,
   "length": 100
  },
  {
   "name": "CenterX",
   "type": "esriFieldTypeDouble",
   "alias": "CenterX",
   "domain": null
  },
  {
   "name": "CenterY",
   "type": "esriFieldTypeDouble",
   "alias": "CenterY",
   "domain": null
  },
  {
   "name": "ZOrder",
   "type": "esriFieldTypeInteger",
   "alias": "ZOrder",
   "domain": null
  },
  {
   "name": "Shape_Length",
   "type": "esriFieldTypeDouble",
   "alias": "Shape_Length",
   "domain": null
  },
  {
   "name": "Shape_Area",
   "type": "esriFieldTypeDouble",
   "alias": "Shape_Area",
   "domain": null
  }
 ],
 "capabilities": "Catalog,Mensuration,Image,Metadata",
 "defaultMosaicMethod": "Northwest",
 "allowedMosaicMethods": "NorthWest,Center,LockRaster,ByAttribute,Nadir,Viewpoint,Seamline,None",
 "sortField": "",
 "sortValue": null,
 "sortAscending": true,
 "mosaicOperator": "First",
 "maxDownloadSizeLimit": 2048,
 "defaultCompressionQuality": 75,
 "defaultResamplingMethod": "Bilinear",
 "maxImageHeight": 4100,
 "maxImageWidth": 15000,
 "maxRecordCount": 1000,
 "maxDownloadImageCount": 20,
 "maxMosaicImageCount": 20,
 "allowRasterFunction": true,
 "rasterFunctionInfos": [
  {
   "name": "Wheat_Yield",
   "description": "A raster function template.",
   "help": ""
  },
  {
   "name": "None",
   "description": "A No-Op Function.",
   "help": ""
  },
  {
   "name": "Wheat_Rain",
   "description": "A raster function template.",
   "help": ""
  },
  {
   "name": "Plantain_Irrig",
   "description": "A raster function template.",
   "help": ""
  },
  {
   "name": "Small_Millet_Irrig",
   "description": "A raster function template.",
   "help": ""
  },
  {
   "name": "Lentil_Irrig",
   "description": "A raster function template.",
   "help": ""
  },
  {
   "name": "Yam_Yield",
   "description": "A raster function template.",
   "help": ""
  },
  {
   "name": "Vegetables_Yield",
   "description": "A raster function template.",
   "help": ""
  },
  {
   "name": "Tobacco_Yield",
   "description": "A raster function template.",
   "help": ""
  },
  {
   "name": "Tea_Yield",
   "description": "A raster function template.",
   "help": ""
  },
  {
   "name": "SweetPotato_Yield",
   "description": "A raster function template.",
   "help": ""
  },
  {
   "name": "Sugarbeet_Yield",
   "description": "A raster function template.",
   "help": ""
  },
  {
   "name": "Potato_Yield",
   "description": "A raster function template.",
   "help": ""
  },
  {
   "name": "Plantain_Yield",
   "description": "A raster function template.",
   "help": ""
  },
  {
   "name": "PigeonPea_Yield",
   "description": "A raster function template.",
   "help": ""
  },
  {
   "name": "Pearl_Millet_Yield",
   "description": "A raster function template.",
   "help": ""
  },
  {
   "name": "Small_Millet_Yield",
   "description": "A raster function template.",
   "help": ""
  },
  {
   "name": "Lentil_Yield",
   "description": "A raster function template.",
   "help": ""
  },
  {
   "name": "Fruit_Tropical_Yield",
   "description": "A raster function template.",
   "help": ""
  },
  {
   "name": "Fruit_Temperate_Yield",
   "description": "A raster function template.",
   "help": ""
  },
  {
   "name": "Cowpea_Yield",
   "description": "A raster function template.",
   "help": ""
  },
  {
   "name": "Coffee_Robusta_Yield",
   "description": "A raster function template.",
   "help": ""
  },
  {
   "name": "Coffee_Arabica_Yield",
   "description": "A raster function template.",
   "help": ""
  },
  {
   "name": "Coconut_Yield",
   "description": "A raster function template.",
   "help": ""
  },
  {
   "name": "Cocoa_Yield",
   "description": "A raster function template.",
   "help": ""
  },
  {
   "name": "Chickpea_Yield",
   "description": "A raster function template.",
   "help": ""
  },
  {
   "name": "Cassava_Yield",
   "description": "A raster function template.",
   "help": ""
  },
  {
   "name": "Sunflower_Yield",
   "description": "A raster function template.",
   "help": ""
  },
  {
   "name": "Sugarcane_Yield",
   "description": "A raster function template.",
   "help": ""
  },
  {
   "name": "Soybean_Yield",
   "description": "A raster function template.",
   "help": ""
  },
  {
   "name": "Sorghum_Yield",
   "description": "A raster function template.",
   "help": ""
  },
  {
   "name": "Rapeseed_Yield",
   "description": "A raster function template.",
   "help": ""
  },
  {
   "name": "Rice_Yield",
   "description": "A raster function template.",
   "help": ""
  },
  {
   "name": "Palm_Oil_Yield",
   "description": "A raster function template.",
   "help": ""
  },
  {
   "name": "GroundNut_Yield",
   "description": "A raster function template.",
   "help": ""
  },
  {
   "name": "Maize_Yield",
   "description": "A raster function template.",
   "help": ""
  },
  {
   "name": "Barley_Yield",
   "description": "A raster function template.",
   "help": ""
  },
  {
   "name": "Cotton_Yield",
   "description": "A raster function template.",
   "help": ""
  },
  {
   "name": "Lentil_Prod",
   "description": "A raster function template.",
   "help": ""
  },
  {
   "name": "Fruit_Tropical_Prod",
   "description": "A raster function template.",
   "help": ""
  },
  {
   "name": "Fruit_Temperate_Prod",
   "description": "A raster function template.",
   "help": ""
  },
  {
   "name": "Cowpea_Prod",
   "description": "A raster function template.",
   "help": ""
  },
  {
   "name": "Coffee_Robusta_Prod",
   "description": "A raster function template.",
   "help": ""
  },
  {
   "name": "Coffee_Arabica_Prod",
   "description": "A raster function template.",
   "help": ""
  },
  {
   "name": "Coconut_Prod",
   "description": "A raster function template.",
   "help": ""
  },
  {
   "name": "Cocoa_Prod",
   "description": "A raster function template.",
   "help": ""
  },
  {
   "name": "Chickpea_Prod",
   "description": "A raster function template.",
   "help": ""
  },
  {
   "name": "Bean_Prod",
   "description": "A raster function template.",
   "help": ""
  },
  {
   "name": "Lentil_Area",
   "description": "A raster function template.",
   "help": ""
  },
  {
   "name": "Fruit_Tropical_Area",
   "description": "A raster function template.",
   "help": ""
  },
  {
   "name": "Fruit_Temperate_Area",
   "description": "A raster function template.",
   "help": ""
  },
  {
   "name": "Coffee_Robusta_Area",
   "description": "A raster function template.",
   "help": ""
  },
  {
   "name": "Coffee_Arabica_Area",
   "description": "A raster function template.",
   "help": ""
  },
  {
   "name": "Chickpea_Area",
   "description": "A raster function template.",
   "help": ""
  },
  {
   "name": "Cowpea_Area",
   "description": "A raster function template.",
   "help": ""
  },
  {
   "name": "Cocoa_Area",
   "description": "A raster function template.",
   "help": ""
  },
  {
   "name": "Coconut_Area",
   "description": "A raster function template.",
   "help": ""
  },
  {
   "name": "Bean_Area",
   "description": "A raster function template.",
   "help": ""
  },
  {
   "name": "Fruit_Temperate_Irrig",
   "description": "A raster function template.",
   "help": ""
  },
  {
   "name": "Fruit_Tropical_Irrig",
   "description": "A raster function template.",
   "help": ""
  },
  {
   "name": "Cowpea_Irrig",
   "description": "A raster function template.",
   "help": ""
  },
  {
   "name": "Coffee_Robusta_Irrig",
   "description": "A raster function template.",
   "help": ""
  },
  {
   "name": "Coffee_Arabica_Irrig",
   "description": "A raster function template.",
   "help": ""
  },
  {
   "name": "Coconut_Irrig",
   "description": "A raster function template.",
   "help": ""
  },
  {
   "name": "Cocoa_Irrig",
   "description": "A raster function template.",
   "help": ""
  },
  {
   "name": "Bean_Irrig",
   "description": "A raster function template.",
   "help": ""
  },
  {
   "name": "Chickpea_Irrig",
   "description": "A raster function template.",
   "help": ""
  },
  {
   "name": "Lentil_Rain",
   "description": "A raster function template.",
   "help": ""
  },
  {
   "name": "Fruit_Temperate_Rain",
   "description": "A raster function template.",
   "help": ""
  },
  {
   "name": "Fruit_Tropical_Rain",
   "description": "A raster function template.",
   "help": ""
  },
  {
   "name": "Cowpea_Rain",
   "description": "A raster function template.",
   "help": ""
  },
  {
   "name": "Coffee_Robusta_Rain",
   "description": "A raster function template.",
   "help": ""
  },
  {
   "name": "Coffee_Arabica_Rain",
   "description": "A raster function template.",
   "help": ""
  },
  {
   "name": "Coconut_Rain",
   "description": "A raster function template.",
   "help": ""
  },
  {
   "name": "Cocoa_Rain",
   "description": "A raster function template.",
   "help": ""
  },
  {
   "name": "Chickpea_Rain",
   "description": "A raster function template.",
   "help": ""
  },
  {
   "name": "Bean_Rain",
   "description": "A raster function template.",
   "help": ""
  },
  {
   "name": "Vegetable_Prod",
   "description": "A raster function template.",
   "help": ""
  },
  {
   "name": "Pigeonpea_Prod",
   "description": "A raster function template.",
   "help": ""
  },
  {
   "name": "Plantain_Prod",
   "description": "A raster function template.",
   "help": ""
  },
  {
   "name": "Potato_Prod",
   "description": "A raster function template.",
   "help": ""
  },
  {
   "name": "SweetPotato_Prod",
   "description": "A raster function template.",
   "help": ""
  },
  {
   "name": "Tea_Prod",
   "description": "A raster function template.",
   "help": ""
  },
  {
   "name": "Vegetable_Yield",
   "description": "A raster function template.",
   "help": ""
  },
  {
   "name": "Tobacco_Prod",
   "description": "A raster function template.",
   "help": ""
  },
  {
   "name": "Sugarbeet_Prod",
   "description": "A raster function template.",
   "help": ""
  },
  {
   "name": "Pigeonpea_Irrig",
   "description": "A raster function template.",
   "help": ""
  },
  {
   "name": "Potato_Irrig",
   "description": "A raster function template.",
   "help": ""
  },
  {
   "name": "Sugarbeet_Irrig",
   "description": "A raster function template.",
   "help": ""
  },
  {
   "name": "SweetPotato_Irrig",
   "description": "A raster function template.",
   "help": ""
  },
  {
   "name": "Tea_Irrig",
   "description": "A raster function template.",
   "help": ""
  },
  {
   "name": "Tobacco_Irrig",
   "description": "A raster function template.",
   "help": ""
  },
  {
   "name": "Vegetable_Irrig",
   "description": "A raster function template.",
   "help": ""
  },
  {
   "name": "Vegetable_Rain",
   "description": "A raster function template.",
   "help": ""
  },
  {
   "name": "Tobacco_Rain",
   "description": "A raster function template.",
   "help": ""
  },
  {
   "name": "Tea_Rain",
   "description": "A raster function template.",
   "help": ""
  },
  {
   "name": "SweetPotato_Rain",
   "description": "A raster function template.",
   "help": ""
  },
  {
   "name": "Sugarbeet_Rain",
   "description": "A raster function template.",
   "help": ""
  },
  {
   "name": "Potato_Rain",
   "description": "A raster function template.",
   "help": ""
  },
  {
   "name": "Plantain_Rain",
   "description": "A raster function template.",
   "help": ""
  },
  {
   "name": "Pigeonpea_Rain",
   "description": "A raster function template.",
   "help": ""
  },
  {
   "name": "Vegetable_Area",
   "description": "A raster function template.",
   "help": ""
  },
  {
   "name": "Tobacco_Area",
   "description": "A raster function template.",
   "help": ""
  },
  {
   "name": "Tea_Area",
   "description": "A raster function template.",
   "help": ""
  },
  {
   "name": "SweetPotato_Area",
   "description": "A raster function template.",
   "help": ""
  },
  {
   "name": "Sugarbeet_Area",
   "description": "A raster function template.",
   "help": ""
  },
  {
   "name": "Potato_Area",
   "description": "A raster function template.",
   "help": ""
  },
  {
   "name": "Plantain_Area",
   "description": "A raster function template.",
   "help": ""
  },
  {
   "name": "Pigeonpea_Area",
   "description": "A raster function template.",
   "help": ""
  },
  {
   "name": "Barley_Rain",
   "description": "A raster function template.",
   "help": ""
  },
  {
   "name": "Barley_Irrig",
   "description": "A raster function template.",
   "help": ""
  },
  {
   "name": "Barley_Area",
   "description": "A raster function template.",
   "help": ""
  },
  {
   "name": "Sunflower_Irrig",
   "description": "A raster function template.",
   "help": ""
  },
  {
   "name": "Sunflower_Rain",
   "description": "A raster function template.",
   "help": ""
  },
  {
   "name": "Sunflower_Area",
   "description": "A raster function template.",
   "help": ""
  },
  {
   "name": "Sugarcane_Rain",
   "description": "A raster function template.",
   "help": ""
  },
  {
   "name": "Sugarcane_Irrig",
   "description": "A raster function template.",
   "help": ""
  },
  {
   "name": "Sugarcane_Area",
   "description": "A raster function template.",
   "help": ""
  },
  {
   "name": "Sorghum_Rain",
   "description": "A raster function template.",
   "help": ""
  },
  {
   "name": "Sorghum_Irrig",
   "description": "A raster function template.",
   "help": ""
  },
  {
   "name": "Sorghum_Area",
   "description": "A raster function template.",
   "help": ""
  },
  {
   "name": "Rapeseed_Rain",
   "description": "A raster function template.",
   "help": ""
  },
  {
   "name": "Rapeseed_Irrig",
   "description": "A raster function template.",
   "help": ""
  },
  {
   "name": "Rapeseed_Area",
   "description": "A raster function template.",
   "help": ""
  },
  {
   "name": "Palm_Oil_Rain",
   "description": "A raster function template.",
   "help": ""
  },
  {
   "name": "Palm_Oil_Irrig",
   "description": "A raster function template.",
   "help": ""
  },
  {
   "name": "Palm_Oil_Area",
   "description": "A raster function template.",
   "help": ""
  },
  {
   "name": "Small_Millet_Rain",
   "description": "A raster function template.",
   "help": ""
  },
  {
   "name": "Small_Millet_Area",
   "description": "A raster function template.",
   "help": ""
  },
  {
   "name": "GroundNut_Rain",
   "description": "A raster function template.",
   "help": ""
  },
  {
   "name": "GroundNut_Irrig",
   "description": "A raster function template.",
   "help": ""
  },
  {
   "name": "Ground_Nut_Area",
   "description": "A raster function template.",
   "help": ""
  },
  {
   "name": "Sorghum_Prod",
   "description": "A raster function template.",
   "help": ""
  },
  {
   "name": "Rapeseed_Prod",
   "description": "A raster function template.",
   "help": ""
  },
  {
   "name": "Palm_Oil_Prod",
   "description": "A raster function template.",
   "help": ""
  },
  {
   "name": "Pearl_Millet_Irrig",
   "description": "A raster function template.",
   "help": ""
  },
  {
   "name": "Cassava_Irrig",
   "description": "A raster function template.",
   "help": ""
  },
  {
   "name": "Pearl_Millet_Area",
   "description": "A raster function template.",
   "help": ""
  },
  {
   "name": "Cassava_Area",
   "description": "A raster function template.",
   "help": ""
  },
  {
   "name": "Pearl_Millet_Rain",
   "description": "A raster function template.",
   "help": ""
  },
  {
   "name": "Cassava_Rain",
   "description": "A raster function template.",
   "help": ""
  },
  {
   "name": "Sunflower_Prod",
   "description": "A raster function template.",
   "help": ""
  },
  {
   "name": "Sugarcane_Prod",
   "description": "A raster function template.",
   "help": ""
  },
  {
   "name": "Small_Millet_Prod",
   "description": "A raster function template.",
   "help": ""
  },
  {
   "name": "Pearl_Millet_Prod",
   "description": "A raster function template.",
   "help": ""
  },
  {
   "name": "Ground_Nut_Prod",
   "description": "A raster function template.",
   "help": ""
  },
  {
   "name": "Cassava_Prod",
   "description": "A raster function template.",
   "help": ""
  },
  {
   "name": "Barley_Prod",
   "description": "A raster function template.",
   "help": ""
  },
  {
   "name": "Wheat_Prod",
   "description": "A raster function template.",
   "help": ""
  },
  {
   "name": "Rice_Prod",
   "description": "A raster function template.",
   "help": ""
  },
  {
   "name": "Wheat_Area",
   "description": "A raster function template.",
   "help": ""
  },
  {
   "name": "Soybean_Area",
   "description": "A raster function template.",
   "help": ""
  },
  {
   "name": "Rice_Area",
   "description": "A raster function template.",
   "help": ""
  },
  {
   "name": "Maize_Area",
   "description": "A raster function template.",
   "help": ""
  },
  {
   "name": "Cotton_Area",
   "description": "A raster function template.",
   "help": ""
  },
  {
   "name": "Soybean_Rain",
   "description": "A raster function template.",
   "help": ""
  },
  {
   "name": "Rice_Rain",
   "description": "A raster function template.",
   "help": ""
  },
  {
   "name": "Maize_Rain",
   "description": "A raster function template.",
   "help": ""
  },
  {
   "name": "Cotton_Rain",
   "description": "A raster function template.",
   "help": ""
  },
  {
   "name": "Wheat_Irrig",
   "description": "A raster function template.",
   "help": ""
  },
  {
   "name": "Soybean_Irrig",
   "description": "A raster function template.",
   "help": ""
  },
  {
   "name": "Rice_Irrig",
   "description": "A raster function template.",
   "help": ""
  },
  {
   "name": "Maize_Irrig",
   "description": "A raster function template.",
   "help": ""
  },
  {
   "name": "Cotton_Irrig",
   "description": "A raster function template.",
   "help": ""
  },
  {
   "name": "Soybean_Prod",
   "description": "A raster function template.",
   "help": ""
  },
  {
   "name": "Maize_Prod",
   "description": "A raster function template.",
   "help": ""
  },
  {
   "name": "Cotton_Prod",
   "description": "A raster function template.",
   "help": ""
  },
  {
   "name": "non_cropland",
   "description": "A raster function template.",
   "help": ""
  },
  {
   "name": "Bean_Yield",
   "description": "A raster function template.",
   "help": ""
  },
  {
   "name": "Yam_Area",
   "description": "A raster function template.",
   "help": ""
  },
  {
   "name": "Yam_Irrig",
   "description": "A raster function template.",
   "help": ""
  },
  {
   "name": "Yam_Prod",
   "description": "A raster function template.",
   "help": ""
  },
  {
   "name": "Yam_Rain",
   "description": "A raster function template.",
   "help": ""
  }
 ],
 "rasterTypeInfos": [
  {
   "name": "Raster Dataset",
   "description": "Supports all ArcGIS Raster Datasets",
   "help": ""
  }
 ],
 "mensurationCapabilities": "None",
 "hasHistograms": true,
 "hasColormap": false,
 "hasRasterAttributeTable": false,
 "minScale": 0,
 "maxScale": 0,
 "exportTilesAllowed": false,
 "supportsStatistics": true,
 "supportsAdvancedQueries": true,
 "editFieldsInfo": null,
 "ownershipBasedAccessControlForRasters": null,
 "allowComputeTiePoints": false,
 "useStandardizedQueries": true,
 "advancedQueryCapabilities": {
  "useStandardizedQueries": true,
  "supportsStatistics": true,
  "supportsOrderBy": true,
  "supportsDistinct": true,
  "supportsPagination": true
 },
 "spatialReference": {
  "wkid": 102100,
  "latestWkid": 3857
 }
}
