View In:
ArcGIS JavaScript
ArcGIS Online Map Viewer
ArcGIS Earth
Service Description: G_CropStats/Crop_Stats
Name: G_CropStats/Crop_Stats
Description:
Single Fused Map Cache: false
Extent:
XMin: -2.00375070672E7
YMin: -3.024097145838615E7
XMax: 2.003734931831174E7
YMax: 3.024097145838615E7
Spatial Reference: 102100
(3857)
LatestVCSWkid(0)
Initial Extent:
XMin: -2.00375070672E7
YMin: -3.024097145838615E7
XMax: 2.003734931831174E7
YMax: 3.024097145838615E7
Spatial Reference: 102100
(3857)
LatestVCSWkid(0)
Full Extent:
XMin: -2.00375070672E7
YMin: -3.024097145838615E7
XMax: 2.003734931831174E7
YMax: 3.024097145838615E7
Spatial Reference: 102100
(3857)
LatestVCSWkid(0)
Pixel Size X: 9276.587126275866
Pixel Size Y: 9276.371613001886
Band Count: 1
Pixel Type: F32
RasterFunction Infos: {"rasterFunctionInfos": [
{
"name": "Wheat_Yield",
"description": "A raster function template.",
"help": ""
},
{
"name": "None",
"description": "A No-Op Function.",
"help": ""
},
{
"name": "Wheat_Rain",
"description": "A raster function template.",
"help": ""
},
{
"name": "Plantain_Irrig",
"description": "A raster function template.",
"help": ""
},
{
"name": "Small_Millet_Irrig",
"description": "A raster function template.",
"help": ""
},
{
"name": "Lentil_Irrig",
"description": "A raster function template.",
"help": ""
},
{
"name": "Yam_Yield",
"description": "A raster function template.",
"help": ""
},
{
"name": "Vegetables_Yield",
"description": "A raster function template.",
"help": ""
},
{
"name": "Tobacco_Yield",
"description": "A raster function template.",
"help": ""
},
{
"name": "Tea_Yield",
"description": "A raster function template.",
"help": ""
},
{
"name": "SweetPotato_Yield",
"description": "A raster function template.",
"help": ""
},
{
"name": "Sugarbeet_Yield",
"description": "A raster function template.",
"help": ""
},
{
"name": "Potato_Yield",
"description": "A raster function template.",
"help": ""
},
{
"name": "Plantain_Yield",
"description": "A raster function template.",
"help": ""
},
{
"name": "PigeonPea_Yield",
"description": "A raster function template.",
"help": ""
},
{
"name": "Pearl_Millet_Yield",
"description": "A raster function template.",
"help": ""
},
{
"name": "Small_Millet_Yield",
"description": "A raster function template.",
"help": ""
},
{
"name": "Lentil_Yield",
"description": "A raster function template.",
"help": ""
},
{
"name": "Fruit_Tropical_Yield",
"description": "A raster function template.",
"help": ""
},
{
"name": "Fruit_Temperate_Yield",
"description": "A raster function template.",
"help": ""
},
{
"name": "Cowpea_Yield",
"description": "A raster function template.",
"help": ""
},
{
"name": "Coffee_Robusta_Yield",
"description": "A raster function template.",
"help": ""
},
{
"name": "Coffee_Arabica_Yield",
"description": "A raster function template.",
"help": ""
},
{
"name": "Coconut_Yield",
"description": "A raster function template.",
"help": ""
},
{
"name": "Cocoa_Yield",
"description": "A raster function template.",
"help": ""
},
{
"name": "Chickpea_Yield",
"description": "A raster function template.",
"help": ""
},
{
"name": "Cassava_Yield",
"description": "A raster function template.",
"help": ""
},
{
"name": "Sunflower_Yield",
"description": "A raster function template.",
"help": ""
},
{
"name": "Sugarcane_Yield",
"description": "A raster function template.",
"help": ""
},
{
"name": "Soybean_Yield",
"description": "A raster function template.",
"help": ""
},
{
"name": "Sorghum_Yield",
"description": "A raster function template.",
"help": ""
},
{
"name": "Rapeseed_Yield",
"description": "A raster function template.",
"help": ""
},
{
"name": "Rice_Yield",
"description": "A raster function template.",
"help": ""
},
{
"name": "Palm_Oil_Yield",
"description": "A raster function template.",
"help": ""
},
{
"name": "GroundNut_Yield",
"description": "A raster function template.",
"help": ""
},
{
"name": "Maize_Yield",
"description": "A raster function template.",
"help": ""
},
{
"name": "Barley_Yield",
"description": "A raster function template.",
"help": ""
},
{
"name": "Cotton_Yield",
"description": "A raster function template.",
"help": ""
},
{
"name": "Lentil_Prod",
"description": "A raster function template.",
"help": ""
},
{
"name": "Fruit_Tropical_Prod",
"description": "A raster function template.",
"help": ""
},
{
"name": "Fruit_Temperate_Prod",
"description": "A raster function template.",
"help": ""
},
{
"name": "Cowpea_Prod",
"description": "A raster function template.",
"help": ""
},
{
"name": "Coffee_Robusta_Prod",
"description": "A raster function template.",
"help": ""
},
{
"name": "Coffee_Arabica_Prod",
"description": "A raster function template.",
"help": ""
},
{
"name": "Coconut_Prod",
"description": "A raster function template.",
"help": ""
},
{
"name": "Cocoa_Prod",
"description": "A raster function template.",
"help": ""
},
{
"name": "Chickpea_Prod",
"description": "A raster function template.",
"help": ""
},
{
"name": "Bean_Prod",
"description": "A raster function template.",
"help": ""
},
{
"name": "Lentil_Area",
"description": "A raster function template.",
"help": ""
},
{
"name": "Fruit_Tropical_Area",
"description": "A raster function template.",
"help": ""
},
{
"name": "Fruit_Temperate_Area",
"description": "A raster function template.",
"help": ""
},
{
"name": "Coffee_Robusta_Area",
"description": "A raster function template.",
"help": ""
},
{
"name": "Coffee_Arabica_Area",
"description": "A raster function template.",
"help": ""
},
{
"name": "Chickpea_Area",
"description": "A raster function template.",
"help": ""
},
{
"name": "Cowpea_Area",
"description": "A raster function template.",
"help": ""
},
{
"name": "Cocoa_Area",
"description": "A raster function template.",
"help": ""
},
{
"name": "Coconut_Area",
"description": "A raster function template.",
"help": ""
},
{
"name": "Bean_Area",
"description": "A raster function template.",
"help": ""
},
{
"name": "Fruit_Temperate_Irrig",
"description": "A raster function template.",
"help": ""
},
{
"name": "Fruit_Tropical_Irrig",
"description": "A raster function template.",
"help": ""
},
{
"name": "Cowpea_Irrig",
"description": "A raster function template.",
"help": ""
},
{
"name": "Coffee_Robusta_Irrig",
"description": "A raster function template.",
"help": ""
},
{
"name": "Coffee_Arabica_Irrig",
"description": "A raster function template.",
"help": ""
},
{
"name": "Coconut_Irrig",
"description": "A raster function template.",
"help": ""
},
{
"name": "Cocoa_Irrig",
"description": "A raster function template.",
"help": ""
},
{
"name": "Bean_Irrig",
"description": "A raster function template.",
"help": ""
},
{
"name": "Chickpea_Irrig",
"description": "A raster function template.",
"help": ""
},
{
"name": "Lentil_Rain",
"description": "A raster function template.",
"help": ""
},
{
"name": "Fruit_Temperate_Rain",
"description": "A raster function template.",
"help": ""
},
{
"name": "Fruit_Tropical_Rain",
"description": "A raster function template.",
"help": ""
},
{
"name": "Cowpea_Rain",
"description": "A raster function template.",
"help": ""
},
{
"name": "Coffee_Robusta_Rain",
"description": "A raster function template.",
"help": ""
},
{
"name": "Coffee_Arabica_Rain",
"description": "A raster function template.",
"help": ""
},
{
"name": "Coconut_Rain",
"description": "A raster function template.",
"help": ""
},
{
"name": "Cocoa_Rain",
"description": "A raster function template.",
"help": ""
},
{
"name": "Chickpea_Rain",
"description": "A raster function template.",
"help": ""
},
{
"name": "Bean_Rain",
"description": "A raster function template.",
"help": ""
},
{
"name": "Vegetable_Prod",
"description": "A raster function template.",
"help": ""
},
{
"name": "Pigeonpea_Prod",
"description": "A raster function template.",
"help": ""
},
{
"name": "Plantain_Prod",
"description": "A raster function template.",
"help": ""
},
{
"name": "Potato_Prod",
"description": "A raster function template.",
"help": ""
},
{
"name": "SweetPotato_Prod",
"description": "A raster function template.",
"help": ""
},
{
"name": "Tea_Prod",
"description": "A raster function template.",
"help": ""
},
{
"name": "Vegetable_Yield",
"description": "A raster function template.",
"help": ""
},
{
"name": "Tobacco_Prod",
"description": "A raster function template.",
"help": ""
},
{
"name": "Sugarbeet_Prod",
"description": "A raster function template.",
"help": ""
},
{
"name": "Pigeonpea_Irrig",
"description": "A raster function template.",
"help": ""
},
{
"name": "Potato_Irrig",
"description": "A raster function template.",
"help": ""
},
{
"name": "Sugarbeet_Irrig",
"description": "A raster function template.",
"help": ""
},
{
"name": "SweetPotato_Irrig",
"description": "A raster function template.",
"help": ""
},
{
"name": "Tea_Irrig",
"description": "A raster function template.",
"help": ""
},
{
"name": "Tobacco_Irrig",
"description": "A raster function template.",
"help": ""
},
{
"name": "Vegetable_Irrig",
"description": "A raster function template.",
"help": ""
},
{
"name": "Vegetable_Rain",
"description": "A raster function template.",
"help": ""
},
{
"name": "Tobacco_Rain",
"description": "A raster function template.",
"help": ""
},
{
"name": "Tea_Rain",
"description": "A raster function template.",
"help": ""
},
{
"name": "SweetPotato_Rain",
"description": "A raster function template.",
"help": ""
},
{
"name": "Sugarbeet_Rain",
"description": "A raster function template.",
"help": ""
},
{
"name": "Potato_Rain",
"description": "A raster function template.",
"help": ""
},
{
"name": "Plantain_Rain",
"description": "A raster function template.",
"help": ""
},
{
"name": "Pigeonpea_Rain",
"description": "A raster function template.",
"help": ""
},
{
"name": "Vegetable_Area",
"description": "A raster function template.",
"help": ""
},
{
"name": "Tobacco_Area",
"description": "A raster function template.",
"help": ""
},
{
"name": "Tea_Area",
"description": "A raster function template.",
"help": ""
},
{
"name": "SweetPotato_Area",
"description": "A raster function template.",
"help": ""
},
{
"name": "Sugarbeet_Area",
"description": "A raster function template.",
"help": ""
},
{
"name": "Potato_Area",
"description": "A raster function template.",
"help": ""
},
{
"name": "Plantain_Area",
"description": "A raster function template.",
"help": ""
},
{
"name": "Pigeonpea_Area",
"description": "A raster function template.",
"help": ""
},
{
"name": "Barley_Rain",
"description": "A raster function template.",
"help": ""
},
{
"name": "Barley_Irrig",
"description": "A raster function template.",
"help": ""
},
{
"name": "Barley_Area",
"description": "A raster function template.",
"help": ""
},
{
"name": "Sunflower_Irrig",
"description": "A raster function template.",
"help": ""
},
{
"name": "Sunflower_Rain",
"description": "A raster function template.",
"help": ""
},
{
"name": "Sunflower_Area",
"description": "A raster function template.",
"help": ""
},
{
"name": "Sugarcane_Rain",
"description": "A raster function template.",
"help": ""
},
{
"name": "Sugarcane_Irrig",
"description": "A raster function template.",
"help": ""
},
{
"name": "Sugarcane_Area",
"description": "A raster function template.",
"help": ""
},
{
"name": "Sorghum_Rain",
"description": "A raster function template.",
"help": ""
},
{
"name": "Sorghum_Irrig",
"description": "A raster function template.",
"help": ""
},
{
"name": "Sorghum_Area",
"description": "A raster function template.",
"help": ""
},
{
"name": "Rapeseed_Rain",
"description": "A raster function template.",
"help": ""
},
{
"name": "Rapeseed_Irrig",
"description": "A raster function template.",
"help": ""
},
{
"name": "Rapeseed_Area",
"description": "A raster function template.",
"help": ""
},
{
"name": "Palm_Oil_Rain",
"description": "A raster function template.",
"help": ""
},
{
"name": "Palm_Oil_Irrig",
"description": "A raster function template.",
"help": ""
},
{
"name": "Palm_Oil_Area",
"description": "A raster function template.",
"help": ""
},
{
"name": "Small_Millet_Rain",
"description": "A raster function template.",
"help": ""
},
{
"name": "Small_Millet_Area",
"description": "A raster function template.",
"help": ""
},
{
"name": "GroundNut_Rain",
"description": "A raster function template.",
"help": ""
},
{
"name": "GroundNut_Irrig",
"description": "A raster function template.",
"help": ""
},
{
"name": "Ground_Nut_Area",
"description": "A raster function template.",
"help": ""
},
{
"name": "Sorghum_Prod",
"description": "A raster function template.",
"help": ""
},
{
"name": "Rapeseed_Prod",
"description": "A raster function template.",
"help": ""
},
{
"name": "Palm_Oil_Prod",
"description": "A raster function template.",
"help": ""
},
{
"name": "Pearl_Millet_Irrig",
"description": "A raster function template.",
"help": ""
},
{
"name": "Cassava_Irrig",
"description": "A raster function template.",
"help": ""
},
{
"name": "Pearl_Millet_Area",
"description": "A raster function template.",
"help": ""
},
{
"name": "Cassava_Area",
"description": "A raster function template.",
"help": ""
},
{
"name": "Pearl_Millet_Rain",
"description": "A raster function template.",
"help": ""
},
{
"name": "Cassava_Rain",
"description": "A raster function template.",
"help": ""
},
{
"name": "Sunflower_Prod",
"description": "A raster function template.",
"help": ""
},
{
"name": "Sugarcane_Prod",
"description": "A raster function template.",
"help": ""
},
{
"name": "Small_Millet_Prod",
"description": "A raster function template.",
"help": ""
},
{
"name": "Pearl_Millet_Prod",
"description": "A raster function template.",
"help": ""
},
{
"name": "Ground_Nut_Prod",
"description": "A raster function template.",
"help": ""
},
{
"name": "Cassava_Prod",
"description": "A raster function template.",
"help": ""
},
{
"name": "Barley_Prod",
"description": "A raster function template.",
"help": ""
},
{
"name": "Wheat_Prod",
"description": "A raster function template.",
"help": ""
},
{
"name": "Rice_Prod",
"description": "A raster function template.",
"help": ""
},
{
"name": "Wheat_Area",
"description": "A raster function template.",
"help": ""
},
{
"name": "Soybean_Area",
"description": "A raster function template.",
"help": ""
},
{
"name": "Rice_Area",
"description": "A raster function template.",
"help": ""
},
{
"name": "Maize_Area",
"description": "A raster function template.",
"help": ""
},
{
"name": "Cotton_Area",
"description": "A raster function template.",
"help": ""
},
{
"name": "Soybean_Rain",
"description": "A raster function template.",
"help": ""
},
{
"name": "Rice_Rain",
"description": "A raster function template.",
"help": ""
},
{
"name": "Maize_Rain",
"description": "A raster function template.",
"help": ""
},
{
"name": "Cotton_Rain",
"description": "A raster function template.",
"help": ""
},
{
"name": "Wheat_Irrig",
"description": "A raster function template.",
"help": ""
},
{
"name": "Soybean_Irrig",
"description": "A raster function template.",
"help": ""
},
{
"name": "Rice_Irrig",
"description": "A raster function template.",
"help": ""
},
{
"name": "Maize_Irrig",
"description": "A raster function template.",
"help": ""
},
{
"name": "Cotton_Irrig",
"description": "A raster function template.",
"help": ""
},
{
"name": "Soybean_Prod",
"description": "A raster function template.",
"help": ""
},
{
"name": "Maize_Prod",
"description": "A raster function template.",
"help": ""
},
{
"name": "Cotton_Prod",
"description": "A raster function template.",
"help": ""
},
{
"name": "non_cropland",
"description": "A raster function template.",
"help": ""
},
{
"name": "Bean_Yield",
"description": "A raster function template.",
"help": ""
},
{
"name": "Yam_Area",
"description": "A raster function template.",
"help": ""
},
{
"name": "Yam_Irrig",
"description": "A raster function template.",
"help": ""
},
{
"name": "Yam_Prod",
"description": "A raster function template.",
"help": ""
},
{
"name": "Yam_Rain",
"description": "A raster function template.",
"help": ""
}
]}
Mensuration Capabilities: None
Has Histograms: true
Has Colormap: false
Has Multi Dimensions : false
Rendering Rule:
Min Scale: 0
Max Scale: 0
Copyright Text:
Service Data Type: esriImageServiceDataTypeGeneric
Min Values: 0
Max Values: 9185.5
Mean Values: 44.592966225295264
Standard Deviation Values: 263.5582598926872
Object ID Field: OBJECTID
Fields:
-
OBJECTID
(
type: esriFieldTypeOID, alias: OBJECTID
)
-
Shape
(
type: esriFieldTypeGeometry, alias: Shape
)
-
Name
(
type: esriFieldTypeString, alias: Name, length: 200
)
-
MinPS
(
type: esriFieldTypeDouble, alias: MinPS
)
-
MaxPS
(
type: esriFieldTypeDouble, alias: MaxPS
)
-
LowPS
(
type: esriFieldTypeDouble, alias: LowPS
)
-
HighPS
(
type: esriFieldTypeDouble, alias: HighPS
)
-
Category
(
type: esriFieldTypeInteger, alias: Category
, Coded Values:
[0: Unknown]
, [1: Primary]
, [2: Overview]
, ...6 more...
)
-
Tag
(
type: esriFieldTypeString, alias: Tag, length: 100
)
-
GroupName
(
type: esriFieldTypeString, alias: GroupName, length: 100
)
-
ProductName
(
type: esriFieldTypeString, alias: ProductName, length: 100
)
-
CenterX
(
type: esriFieldTypeDouble, alias: CenterX
)
-
CenterY
(
type: esriFieldTypeDouble, alias: CenterY
)
-
ZOrder
(
type: esriFieldTypeInteger, alias: ZOrder
)
-
Shape_Length
(
type: esriFieldTypeDouble, alias: Shape_Length
)
-
Shape_Area
(
type: esriFieldTypeDouble, alias: Shape_Area
)
Default Mosaic Method: Northwest
Allowed Mosaic Methods: NorthWest,Center,LockRaster,ByAttribute,Nadir,Viewpoint,Seamline,None
SortField:
SortValue: null
Mosaic Operator: First
Default Compression Quality: 75
Default Resampling Method: Bilinear
Max Record Count: 1000
Max Image Height: 4100
Max Image Width: 15000
Max Download Image Count: 20
Max Mosaic Image Count: 20
Allow Raster Function: true
Allow Copy: true
Allow Analysis: true
Allow Compute TiePoints: false
Supports Statistics: true
Supports Advanced Queries: true
Use StandardizedQueries: true
Raster Type Infos:
Name: Raster Dataset
Description: Supports all ArcGIS Raster Datasets
Help:
Has Raster Attribute Table: false
Edit Fields Info: null
Ownership Based AccessControl For Rasters: null
Child Resources:
Info
Histograms
Statistics
Key Properties
Legend
Raster Function Infos
Supported Operations:
Export Image
Query
Identify
Measure
Compute Histograms
Compute Statistics Histograms
Get Samples
Compute Class Statistics
Query Boundary
Compute Pixel Location
Compute Angles
Validate
Project